BEGIN:VCALENDAR
VERSION:2.0
PRODID:-//https://www.naskho.org///NONSGML kigkonsult.se iCalcreator 2.10.15//
METHOD:PUBLISH
BEGIN:VEVENT
UID:20260420T052112EDT-9681VFeE8O@https://www.naskho.org/
DTSTAMP:20260420T092112Z
DESCRIPTION: https://www.naskho.org/index.php/nl-nl/conferences/overview-of
 -conferences/event/170-rendu-osler-weber-op-de-antillen-dr-monique-wong-lo
 i-sing-longarts
DTSTART:20190821T120008Z
DTEND:20190821T130000Z
LOCATION: ()
SUMMARY:Rendu Osler Weber op de Antillen - dr. Monique Wong Loi Sing - Long
 arts
URL:https://www.naskho.org/index.php/nl-nl/conferences/overview-of-conferen
 ces/event/170-rendu-osler-weber-op-de-antillen-dr-monique-wong-loi-sing-lo
 ngarts
END:VEVENT
END:VCALENDAR
