BEGIN:VCALENDAR
VERSION:2.0
PRODID:-//https://www.naskho.org///NONSGML kigkonsult.se iCalcreator 2.10.15//
METHOD:PUBLISH
BEGIN:VEVENT
UID:20260422T050528EDT-45794jZ4iI@https://www.naskho.org/
DTSTAMP:20260422T090528Z
DESCRIPTION:                                                               
                                          \nContents:The aim of this course
  is to continue drawing attention to the topic of ‘lifestyle’ in healthcar
 e. It is a follow-up to the successful ‘Lifestyle in Medicine’ courses in 
 2014 and 2016. It is estimated that 80-95% of our current diseases are pri
 marily caused by an unhealthy lifestyle. Important adverse lifestyle facto
 rs are an unhealthy diet\, insufficient exercise\, chronic stress\, chroni
 c sleep deprivation\, an abnormal microbial flora (microbiome) in e.g. the
  intestine\, and an unhealthy environment (including smoking and particula
 te matter). These factors interact: they influence each other. Achieving a
  healthier lifestyle requires a coordinated approach from different discip
 lines. In this course\, 7 teachers from the Netherlands\, one from Portuga
 l and 4 local specialists will perform. Each of them has knowledge of one 
 or more of the lifestyle factors mentioned above. Superficial advice such 
 as ‘eat a little less’\, ‘exercise a little more’ and ‘go to bed a little 
 earlier’ will not work. Nor is pursuing unrealistic goals. Only if the pat
 ient becomes an active partner in the treatment will ’lifestyle advice’ be
  successful. The medical doctor is the coordinator of a team of health pro
 fessionals. This course will highlight this concept in all its facets: bot
 h from the perspective of the individual lifestyle factors and from their 
 integrated approach.\nTarget group:- General Practitioner- Medical doctor-
  Dietician- Nurse &amp\; Paramedic- General Public\nLearning goals: 1. To 
 provide knowledge and insight into the main determinants of a (un)healthy 
 lifestyle: knowledge of the individual factors and their interactions.2. T
 o provide detailed insight into the various (sub)factors in an unhealthy l
 ifestyle\, that is unhealthy diet\, chronic stress\, chronic sleep depriva
 tion\, (environmental) pollution\, insufficient physical activity\, and an
  abnormal microbial flora (microbiome).3. To provide knowledge and insight
  into factors that are decisive in the reversal of an unhealthy lifestyle.
 4. To emphasize the differences in approach via “regular medicine” and “li
 festyle medicine”.\n [toggle open='true' title='Friday April 14th\, 2023 S
 ession 1'] \n\n\n\nFrom - To\nSubject\nSpeaker\n\n\n\n\n16:30-17:00 \nRegi
 stration Session 1\n \n\n\n17:00-17:10\nOpening and welcome address\nMuski
 et and Duits\n\n\n17:10-17:40\nPretest\nCoordination: Muskiet\, Duits\n\n
 \n17:40-18:10\nWhy lifestyle medicine?\nVisscher/Vandewall\n\n\n18:10-18:5
 5\nLifestyle and nutrition: resilience and prevention\n Muskiet\n\n\n18:55
 -19:40\nLifestyle psychiatry: an integrative approach\nHoenders\n\n\n19:40
 -20:00\nBreak\n \n\n\n20:00-20:30\nHow does lifestyle influence the immune
  response?\nDuits\n\n\n20:30-21:00\nPurpose of life\nWaarsenburg\n\n\n21:0
 0-21:30\nWhy are Health Inequalities Persistent?\nSeidell\n\n\n21:30-21:40
 \nDiscussion and closure day 1\n \n\n\n\n [/toggle]\n[toggle open='false' 
 title='Saturday April 15th\, 2023 Session 2'] \n\n\n\nFrom - To\nSubject\n
 Speaker\n\n\n\n\n 08:00-08:30\nRegistration Session 2\n \n\n\n 08:30-09:15
 \nLifestyle and the government: accelerate and brake at the same time?\nSe
 idell\n\n\n09:15-09:45\nChanging the scope: healthcare professionals on th
 e same page\nVisscher/Vandewall\n\n\n09:45-10:15\nLessons learned\nGersten
 bluth\n\n\n10:15-10:30\nCoffee break\n \n\n\n10:30-11:15\nLifestyle and mi
 crobiome: how does it work?\nNieuwdorp\n\n\n11:15-11:45\nCulinary medicine
 \nVisscher/Vandewall\n\n\n11:45-12:15\nOptimizing sleep and circadian heal
 th\nCarrera Bastos\n\n\n12:15-13:15\nLunch break\n \n\n\n\n[/toggle]\n[tog
 gle open='false' title='Saturday April 15th\, 2023 Session 3'] \n\n\n\nFro
 m - To\nSubject\nSpeaker\n\n\n\n\n 13:00-13:15\nRegistration Session 3 \n 
 \n\n\n 13:15-14:00\nReverse diabetes with lifestyle\nVan der Zijl\n\n\n14:
 00-14:45\nReverse obesity with drugs\nMuskiet\n\n\n14:45-15:00\nTea break
 \n \n\n\n 15:00-16:00 \nWorkshop\, discussion\, and closure day 2\nVan der
  Zijl\, M. Muskiet\, Visscher\, Vandewall\n\n\n\n[/toggle]\n[toggle open='
 false' title='Sunday April 16th\, 2023 Session 4'] \n\n\n\nFrom - To\nSubj
 ect\nSpeaker\n\n\n\n\n 08:30-09:00\nRegistration Session 4\n \n\n\n 09:00-
 09:30\nThe basis of Dietary Reference Intakes (DRIs): is it science?\n Mus
 kiet\n\n\n09:30-10:00\nFecal microbiota transplant: generally applicable?
 \nNieuwdorp\n\n\n10:00-10:30 \nSustainable behavioral change\nHoenders\n\n
 \n10:30-11:00\nCoffee break\n \n\n\n11:00-12:00\nGeneral Discussion\nAll l
 ecturers\n\n\n12:00-12:30\n Posttest\n \n\n\n 12:30-13:00\n Test answers\,
  questions\, discussion\n \n\n\n 13:00-13:05\n Closure postgraduate\n \n\n
 \n\n [/toggle]\nDigital Conference Booklet\n\n\nCAN A23.009 April 14: 4 po
 intsApril 15 morning session: 3 pointsApril 15 afternoon session: 3 points
 April 16: 4 points\nGAIA # 511281 April 14: 4 pointsApril 15 morning sessi
 on: 3 pointsApril 15 afternoon session: 3 pointsApril 16: 4 points\nCuraca
 o Prof. Dr. Ashley Duits\, medical immunologist Drs. Ellen Visscher\, life
 style physician Drs. Monique van de Wall Arneman\, lifestyle physician Drs
 . Izzy Gerstenbluth\, epidemiologist\, general physician \nNetherlandsDr. 
 Rogier Hoenders\, psychiatrist Prof. Dr. Frits Muskiet\, emeritus clinical
  chemist Dr. Marcel Muskiet\, resident of internal medicine Prof. Dr. Max 
 Nieuwdorp\, internal medicine specialist\, endocrinologist Prof. Dr. Ir. J
 aap Seidell\, nutritionist Drs. Elkana Waarsenburg\, general practitioner 
 Dr. Nynke van der Zijl\, general practitioner \nPortugal Dr. Pedro Carrera
  Bastos\, nutritionist \nNASKHO Ella Engelhardt\, educational office assis
 ant Luigia Baerecke\, educational office manager \n \n  https://www.naskho
 .org/index.php/nl-nl/conferences/event/366-lifestyle-in-medicine-3
DTSTART:20230414T163000Z
DTEND:20230416T130500Z
LOCATION:Renaissance Wind Creek Curacao Resort (1 Baden Powellweg\, Curacao
 )
SUMMARY:Lifestyle in Medicine 3
URL:https://www.naskho.org/index.php/nl-nl/conferences/event/366-lifestyle-
 in-medicine-3
END:VEVENT
END:VCALENDAR
