BEGIN:VCALENDAR
VERSION:2.0
PRODID:-//https://www.naskho.org///NONSGML kigkonsult.se iCalcreator 2.10.15//
METHOD:PUBLISH
BEGIN:VEVENT
UID:20260424T004816EDT-8803LHg7gd@https://www.naskho.org/
DTSTAMP:20260424T044816Z
DESCRIPTION:De Dokter op de snijtafel van de jurist\nIntroductieArtsen en a
 ndere medisch beroepsbeoefenaren doen hun werk in een steeds complexer wor
 dende omgeving. Dat heeft te maken met toenemende technologie\, ingewikkel
 der wordende ingrepen\, groeiende samenwerking tussen professionals bij di
 agnostiek en behandeling\, mondiger patiënten en meer verantwoordingsplich
 ten. Dat alles heeft ook juridische gevolgen. De cursus heeft tot doel art
 sen inzicht te bieden in juridische aspecten van belangrijke kwesties uit 
 de beroepspraktijk. De cursus zal interactief zijn en gelegenheid bieden o
 m in te gaan op specifieke vragen die leven in de beroepspraktijk in Curaç
 ao.\nElk onderwerp zal worden behandeld aan de hand van een drieslag: • Ui
 teenzetting van - voor de medische praktijk - relevante juridische aspecte
 n/ kwesties • Bespreking van een casus • Discussie. Ook zullen deelnemers 
 in de gelegenheid worden gesteld om casuïstiek in te brengen.\nDocentenOm 
 zo goed mogelijk aan te sluiten bij de dagelijkse praktijkuitoefening van 
 artsen wordt de cursus verzorgd door een jurist\, gespecialiseerd in het g
 ezondheidsrecht\, en een medisch specialist. Daarnaast levert mevrouw Mr. 
 S. Christiaan\, voorzitter van het medisch tuchtcollege Curaçao een bijdra
 ge aan de cursus.Prof. Mr. Joep Hubben\, hoogleraar gezondheidsrecht en al
 s advocaat gespecialiseerd in juridische vraagstukken in de gezondheidszor
 g. Professor Hubben is o.a.voorzitter van de Raad van Toezicht van het Eli
 sabeth Twee Steden Ziekenhuis Tilburg en Raadsheer plv. Gerechtshof. Eerde
 r is Professor Hubben werkzaam geweest als Plaatsvervangend Voorzitter Med
 isch Tuchtcollege.Dr. Dorry Boll\, gynaecoloog-oncoloog in het Catharina Z
 iekenhuis Eindhoven. Zij heeft een grote praktijkervaring als medisch spec
 ialist\; vervult bestuurlijke functies binnen het ziekenhuis en is daarnaa
 st nauw betrokken bij de ontwikkeling van landelijke richtlijnen op het ge
 bied van de medische beroepsuitoefening. Zij is gepromoveerd op het onderw
 erp endometriumcarcinoom.\n [toggle open='true' title='Vrijdag 8 april 202
 2 Sessie 1']\n\n\n\nFrom - To\nSubject\nSpeaker\n\n\n\n\n17.00 - 17.25\nRe
 gistratie\n \n\n\n \nRelatie arts-patient bij onderzoek en behandeling (Ge
 neeskundige behandelingsovereenkomst geldend op Curacao)\n \n\n\n17.25 - 1
 7.30 \nOpening\n \n\n\n17.30 - 19.10\nInformatie en toestemming: Welke ris
 isco's moeten worden besproken?\nHubben en Boll\n\n\n \nMedewerkingsplicht
  patient\n \n\n\n \nCentrale norm: goed hulpverlenerschap: Hoe wordt deze 
 norm ingevuld door de rechter?\n \n\n\n \nPositie minderjarigen (regime va
 n “dubbele toestemming”’) en wilsonbekwamen\n \n\n\n19.10 - 19.45\nBreak\n
  \n\n\n19.45 - 21.30\nWat moet in het dossier staan?\nHubben en Boll\n\n\n
  \nBetekenis werkaantekeningen. Toevoegen verklaringen. Bewaartermijn en v
 ernietigingsrecht. Recht op inzage en afschrift\n \n\n\n \nBetekenis bepal
 ingen over privacy\n \n\n\n \nOpzeggen behandelingsovereenkomst. Wanneer g
 eoorloofd?\n \n\n\n \nBeroepsgeheim en verschoningsrecht. Uitzonderingen (
 “rechtstreeks betrokken bij behandeling”\, positie vertegenwoordiger)\, be
 roepsgeheim na overlijden\n \n\n\n21.30\nSlot\n \n\n\n\n[/toggle]\n[toggle
  open='false' title='zaterdag 9 april 2022 Sessie 2']\n\n\n\nFrom - To\nSu
 bject\nSpeaker\n\n\n\n\n08.00 - 08.30\nRegistratie\n \n\n\n \nKwaliteit va
 n zorg en (tuchtrechtelijke) aansprakelijkheid\; toezicht Inspectie. \n \n
 \n\n8.30 - 10.10\nVerschillende vormen van aansprakelijkheid: civielrechte
 lijk\, strafrechtelijk\, tuchtrechtelijk\, bestuursrechtelijk (m.n. Inspec
 tie Volksgezondheid)\nHubben en Boll\n\n\n \nCentrale normen zijn: ”redeli
 jk bekwaam en redelijk handelend arts“ en “Goed hulpverlenerschap'. Hoe kr
 ijgen deze normen inhoud? \n \n\n\n \nZijn richtlijnen en protocollen bind
 end?\n \n\n\n \nWanneer komt strafrecht in beeld?\nHubben en Boll\n\n\n10.
 10 - 10.30\nCoffee Break\n \n\n\n10.30 - 11.30\n\nWerking van het medisch 
 tuchtrecht op Curaçao. Met bijdrage van mw. Mr. S. Christiaan\, voorzitter
  Medisch Tuchtcollege Curaçao. Ingegaan wordt op de wettelijke regeling\, 
 de praktijk van het tuchtrecht (o.a. samenstelling van het college\, het o
 nderzoek van een klacht\, inschakeling van deskundigen\, toetsingsnorm) en
  enkele belangrijke uitspraken\n\nChristiaan\n\n\n11.45 - 12.30\nTuchtrech
 telijke aansprakelijkheid: enkele ontwikkelingen in Nederland\nHubben en B
 oll\n\n\n12.30 - 13.30\nLunch Break\n \n\n\n\n[/toggle]\n[toggle open='fal
 se' title='zaterdag 9 april 2022 sessie 3']\n\n\n\nFrom - To\nSubject\nSpe
 aker\n\n\n\n\n13.30 - 14.00\nRegistratie\n \n\n\n14.00 - 15.30\nRol Inspec
 tie Volksgezondheid: Theorie en praktijk.\nHubben en Boll\n\n\n \nVerander
 ende verhoudingen binnen het ziekenhuis. Gevolgen voor toelatingsovereenko
 mst\, medische staf en vakgroep.\n \n\n\n \nRegeling interne verantwoordel
 ijkheid door vakgroep/maatschap. \n \n\n\n15.30\nSlot\n \n\n\n\n[/toggle]
 \nBooklet\n\n \n\n \nAccreditatie # A22.004 (totaal 8 punten)\n8 april - 3
  punten\n9 april - ochtend sessie - 3 punten\n9 april - middag sessie - 2 
 punten https://www.naskho.org/index.php/nl-nl/conferences/event/300-gezond
 heidsrecht-voor-artsen-en-hulpverleners
DTSTART:20220408T170000Z
DTEND:20220410T150000Z
LOCATION:Renaissance Curacao Resort & Casino (Baden Powellweg\, Willemstad\
 , Curaçao)
SUMMARY:Gezondheidsrecht \; voor artsen en hulpverleners
URL:https://www.naskho.org/index.php/nl-nl/conferences/event/300-gezondheid
 srecht-voor-artsen-en-hulpverleners
END:VEVENT
END:VCALENDAR
