BEGIN:VCALENDAR
VERSION:2.0
PRODID:-//https://www.naskho.org///NONSGML kigkonsult.se iCalcreator 2.10.15//
METHOD:PUBLISH
BEGIN:VEVENT
UID:20260424T140537EDT-5374TS8h0w@https://www.naskho.org/
DTSTAMP:20260424T180537Z
DESCRIPTION: \n\n  https://www.naskho.org/index.php/nl-nl/conferences/calen
 dar/event/574-women-s-health-conference-save-the-date
DTSTART:20270611T080000Z
DTEND:20270613T130000Z
LOCATION:To be advised ()
SUMMARY:Women's Health Conference - SAVE THE DATE
URL:https://www.naskho.org/index.php/nl-nl/conferences/calendar/event/574-w
 omen-s-health-conference-save-the-date
END:VEVENT
END:VCALENDAR
