BEGIN:VCALENDAR
VERSION:2.0
PRODID:-//https://www.naskho.org///NONSGML kigkonsult.se iCalcreator 2.10.15//
METHOD:PUBLISH
BEGIN:VEVENT
UID:20260423T204402EDT-0952WIb0gz@https://www.naskho.org/
DTSTAMP:20260424T004402Z
DESCRIPTION: https://www.naskho.org/index.php/nl-nl/conferences/calendar/ev
 ent/522-can-we-prevent-icu-admissions
DTSTART:20250514T120000Z
DTEND:20250514T130000Z
LOCATION:Auditorium\, Curacao Medical Center ()
SUMMARY:Can we prevent ICU admissions?
URL:https://www.naskho.org/index.php/nl-nl/conferences/calendar/event/522-c
 an-we-prevent-icu-admissions
END:VEVENT
END:VCALENDAR
