BEGIN:VCALENDAR
VERSION:2.0
PRODID:-//https://www.naskho.org///NONSGML kigkonsult.se iCalcreator 2.10.15//
METHOD:PUBLISH
BEGIN:VEVENT
UID:20260423T170138EDT-55736KcDbA@https://www.naskho.org/
DTSTAMP:20260423T210138Z
DESCRIPTION: https://www.naskho.org/index.php/nl-nl/conferences/calendar/ev
 ent/465-mazelen-een-update-patricia-philippi-en-t-rodriguez
DTSTART:20240626T120000Z
DTEND:20240626T130000Z
LOCATION:Auditorium\, Curacao Medical Center ()
SUMMARY:Mazelen\, een update - Patricia Philippi en T. Rodriguez 
URL:https://www.naskho.org/index.php/nl-nl/conferences/calendar/event/465-m
 azelen-een-update-patricia-philippi-en-t-rodriguez
END:VEVENT
END:VCALENDAR
