BEGIN:VCALENDAR
VERSION:2.0
PRODID:-//https://www.naskho.org///NONSGML kigkonsult.se iCalcreator 2.10.15//
METHOD:PUBLISH
BEGIN:VEVENT
UID:20260422T053546EDT-2832GurfVJ@https://www.naskho.org/
DTSTAMP:20260422T093546Z
DESCRIPTION: https://www.naskho.org/index.php/nl-nl/conferences/calendar/ev
 ent/355-sglt2-for-cardiac-patients-dr-j-molina-cardiologist
DTSTART;VALUE=DATE:20221109
LOCATION:Auditorium\, Curacao Medical Center ()
SUMMARY:Sglt2 for cardiac patients - Dr. J. Molina (Cardiologist)
URL:https://www.naskho.org/index.php/nl-nl/conferences/calendar/event/355-s
 glt2-for-cardiac-patients-dr-j-molina-cardiologist
END:VEVENT
END:VCALENDAR
