BEGIN:VCALENDAR
VERSION:2.0
PRODID:-//https://www.naskho.org///NONSGML kigkonsult.se iCalcreator 2.10.15//
METHOD:PUBLISH
BEGIN:VEVENT
UID:20260423T055811EDT-3160PHuhNn@https://www.naskho.org/
DTSTAMP:20260423T095811Z
DESCRIPTION: https://www.naskho.org/index.php/en/conferences/my-conferences
 /event/435-back-to-back-presentation-acute-heart-failure-hypertensive-cris
 is
DTSTART:20240214T120000Z
DTEND:20240214T130000Z
LOCATION:Auditorium\, Curacao Medical Center ()
SUMMARY:Back-to-Back Presentation: ACUTE HEART FAILURE / HYPERTENSIVE CRISI
 S
URL:https://www.naskho.org/index.php/en/conferences/my-conferences/event/43
 5-back-to-back-presentation-acute-heart-failure-hypertensive-crisis
END:VEVENT
END:VCALENDAR
