BEGIN:VCALENDAR
VERSION:2.0
PRODID:-//https://www.naskho.org///NONSGML kigkonsult.se iCalcreator 2.10.15//
METHOD:PUBLISH
BEGIN:VEVENT
UID:20260421T090547EDT-7043TRFKNx@https://www.naskho.org/
DTSTAMP:20260421T130547Z
DESCRIPTION:\nOpfrissen kennis omtrent differentiaal diagnose van lymfadeno
 pathie bij kinderen\nWaarde van aanvullende diagnostiek bij lymfadenopathi
 e bij kinderen\nArgumenten waarmee aanvullende diagnostiek bij lymfadenopa
 thie doelmatig kan worden ingezet\n https://www.naskho.org/index.php/en/co
 nferences/my-conferences/event/360-lymfadenopathie-bij-kinderen
DTSTART:20230111T120000Z
DTEND:20230111T130000Z
LOCATION:Auditorium\, Curacao Medical Center ()
SUMMARY:Lymfadenopathie bij kinderen
URL:https://www.naskho.org/index.php/en/conferences/my-conferences/event/36
 0-lymfadenopathie-bij-kinderen
END:VEVENT
END:VCALENDAR
