BEGIN:VCALENDAR
VERSION:2.0
PRODID:-//https://www.naskho.org///NONSGML kigkonsult.se iCalcreator 2.10.15//
METHOD:PUBLISH
BEGIN:VEVENT
UID:20260419T211028EDT-7040n2zCSg@https://www.naskho.org/
DTSTAMP:20260420T011028Z
DESCRIPTION:Accreditatie:De kwaliteit en waardering van de EMSB-cursus komt
  tot uiting in de accreditatie welke door zeven beroepsverenigingen is ver
 leend:Nederlandse Internisten Vereniging (6 punten)Nederlandse Vereniging 
 voor Heelkunde (6 punten)Nederlandse Vereniging voor Anesthesiologie (6 pu
 nten)Nederlandse Vereniging voor Kindergeneeskunde (6 punten)Nederlandse V
 ereniging voor Plastische Chirurgie (7 punten)Nederlandse Vereniging voor 
 Spoedeisende Hulp Artsen (6 punten)Verpleegkundigen &amp\; Verzorgenden Ne
 derland (8 punten)CAN: nummer A18.013 als volgt geaccrediteerd:Zaterdag 7 
 april - 8 uur \, men is verplicht de gehele cursus van zaterdag te volgen 
 om in aanmerking te komen voor de accreditatie.Zondag 8 april 6 uur voor d
 e hele dag.\nCursus 1: de cursus ‘Emergency Management of Severe Burns’ (E
 MSB)Zaterdag 7 april 2018\n‘’Bijna iedere zorgverlener komt patiënten met 
 ernstige brandwonden tegen in zijn of haar carrière. De kans op overleven 
 en de kwaliteit van leven na een brandwondenongeval wordt met name bepaald
  door actieve stabilisatie en reanimatie door goed opgeleide verpleegkundi
 gen en artsen tijdens de eerste opvang. Weten wat te doen en vooral wat ni
 et te doen\, is het verschil tussen leven en dood. Ik kan de cursus ‘spoed
 eisende hulp bij brandwonden’ (EMSB) sterk aanbevelen voor alle collega’s 
 in de gezondheidszorg\, vooral voor diegenen die werkzaam zijn op het gebi
 ed van spoedeisende geneeskunde en intensive care.’’\nProf. Dr. Roelf S. B
 reederveldProfessor acute brandwondenzorgLeids Universitair Medisch Centru
 mBrandwondencentrum Beverwijk\nDe Nederlandse Brandwonden Stichting organi
 seert\, in opdracht van het Netherlands-Caribbean Foundation for Clinical 
 Higher Education (NASHKO)\, de cursus ‘Emergency Management of Severe Burn
 s’ (EMSB) voor artsen en verpleegkundigen in algemene ziekenhuizen. Patiën
 ten met ernstige brandwonden worden in Nederland vrijwel altijd eerst naar
  het dichtstbijzijnde algemene ziekenhuis gebracht. Daar vindt dan de acut
 e behandeling plaats. Indien nodig volgt verwijzing naar één van de drie b
 randwondencentra.Voor patiënten is het van groot belang dat artsen en verp
 leegkundigen die zich met de opvang van traumapatiënten bezighouden\, ook 
 opgeleid worden in de opvang van brandwondenslachtoffers. Tijdens de cursu
 s EMSB leren artsen en gespecialiseerde verpleegkundigen hoe patiënten met
  ernstige brandwonden volgens het ABC-protocol opgevangen en behandeld moe
 ten worden.De cursus EMSB is een intensieve eendaagse training. Instructeu
 rs en coördinatoren begeleiden 24 cursisten. De cursusleiding bestaat uit 
 artsen en verpleegkundigen met veel ervaring op het gebied van brandwonden
 zorg en spoedeisende hulp.\nDe cursus EMSB bestaat uit de volgende onderde
 len:• Theorie: in acht korte lezingen worden aan de hand van een uitgebrei
 de reader de medische aspecten van acute brandwondenzorg behandeld.• Prakt
 ijk: met vijf skill-stations worden\, onder begeleiding van deskundigen\, 
 de noodzakelijke praktische vaardigheden geoefend.• Interactieve discussie
 s: in kleine groepjes worden specifieke onderwerpen en casussen uitgediept
 .• Theoretisch examen• Praktische toepassing van de leerstof vindt plaats 
 tijdens simulaties met lotuspatiënten. Dit gedeelte wordt afgesloten met e
 en examen.\nCongres 2: Brandwondenzorg van ontstaan tot genezing  Zondag 8
  april 2018\nDe meeste brandwondenpatiënten worden door de huisarts of op 
 de polikliniek behandeld en komen niet in een brandwondencentrum terecht. 
 Daarom is de kennis van de diagnostiek en behandeling van de kleinere bran
 dwond van belang voor zowel artsen\, specialisten als verpleegkundigen. An
 ders dan in de cursus ‘Emergency Management of Severe Burns’ (EMSB) komen 
 in deze cursus de tips en tricks van de lokale wondbehandeling aan bod. Ho
 e diep is de brandwond? Hoe behandel je een kleine brandwond? Wat is het e
 ffect van pijnbestrijding? Hoe moet je omgaan met contracturen\, littekenh
 ypertrofie en jeuk? Vragen uit de dagelijkse praktijk van de brandwondenzo
 rg.\nDe cursus ‘Brandwondenzorg van ontstaan tot genezing’ geeft antwoord 
 op de vragen en problemen die je als zorgverlener in de praktijk tegenkomt
  bij de behandeling van brandwonden. De kennis wordt overgebracht door zow
 el theoretische kennis als het oefenen in de praktijk. De cursus heeft als
  doel om tijdig de juist zorg te kunnen verlenen bij de behandeling van br
 andwonden.\nOpzet van de Cursusdag In deze cursus wordt anders dan in de c
 ursus ‘spoedeisende hulp bij brandwonden’ (EMSB) de nadruk gelegd op de be
 handeling van kleinere brandwonden in de dagelijkse huisartsenpraktijk en 
 het ziekenhuis.\nDoelgroep: basisarts\, huisarts\, specialist en verpleegk
 undigeDe integrale behandeling van brandwondenslachtoffers wordt gezamenli
 jk behandeld. Daarna komen diverse onderwerpen per doelgroep aan bod. Er i
 s plaats voor maximaal 70 deelnemers.\nDe programmaonderdelen op deze curs
 usdag geven samen een compleet beeld van de zorg voor een brandwondenpatië
 nt. In de ochtend worden lezingen gegeven. In de middag zullen in carrouse
 lvorm een aantal interactieve workshops plaatsvinden.\nProgramma\n[accordi
 on collapse='false']\n[accordion_panel title='Zaterdag 7 april 2018']\n07.
 30 - 08.00 Registratie\n08.00 - 08.10 Welkom en Introductie  - Roelf Breed
 erveld08.10 - 08.30 Eerste Onderzoek en Behandeling  - Onno Boonstra08.30 
 - 08.45 Locale en Systemische Respons op een Verbrandingstrauma - Sonja Sc
 holten08.45 - 09.00 Inhalatietrauma - Emil Caris\n09.00 - 09.10 Korte pauz
 e\n09.10 - 09.20 Beoordeling van de Brandwond -  Jos Vloemans09.20 - 09.40
  Shock en Infuusbehandeling -  Dirk- Jan van Zuidam09.40 - 09.55 Behandeli
 ng van de Brandwond -  Berry Cleffken09 55 - 10.05 Documentatie en Overpla
 atsing  - Onno Boonstra\n10.05 - 10.30 Koffie- / theepauze\n10.30 - 12.30 
 Skill Stations:                       Escharotomie - Roelf Breederveld    
                     TVLO &amp\; Infuusbeleid - Dirk-Jan van Zuidam/Brigit 
 Muis                        Luchtwegbeleid - Emil Caris/ Berry Cleffken   
                     Wondbeoordeling - Jos Vloemans/ Sonja Scholten        
                Documentatie en Overplaatsing - Onno Boonstra\n12.30 - 13.1
 5 Lunch (lunch-box included)\n13.15 - 14.45 Interactieve Discussie Groepen
 \nKinderen Dirk Jan van Zuijdam Elektriciteit Jos Vloemans / Emil Caris Ch
 emisch Sonja Scholten / Berry Cleffken Multitrauma Onno Boonstra Roelf/ Br
 eederveld\n14.45 – 14.50 Demonstratie Case Simulatie\n14.50 - 15.05 Koffie
 - / theepauze\n15.05 - 16.10 Schriftelijk Examen &amp\; Case Simulaties\n1
 6.10 - 16.20 Korte pauze\n16.20 - 17.35 Case Simulaties &amp\; Schriftelij
 k Examen ( Mevrouw Ella ) 17.35 - 17.45 Uitreiking Certificaten\n [/accord
 ion_panel]\n[accordion_panel title='Zondag 8 april 2018']\n08.30 - 09.00 O
 ntvangst en registratie.\n09.00 - 09.10 Welkom en korte toelichting progra
 mma.\nLezingen: Eerste hulp en opvang van brandwondenslachtoffers. Shockpr
 eventie &amp\; vochtbeleid.  Beoordelen van grootte en diepte van de brand
 wond.\n10.40 - 11.00 Koffie- / theepauze\nLokale wondbehandeling: zalven e
 n verbanden. Wanneer opereren en welke techniek: een overzicht van de oper
 atieve mogelijkheden en de indicatie.Revalidatie en nazorg.\n12.45 - 13.30
  Lunch  (Eigen rekening)\nMiddagprogramma:In de middag worden de volgende 
 onderwerpen in de interactieve workshop ronde behandeld: - Lokale wondverz
 orging en verpleegkundige aandachtspunten blaarbehandeling en verbinden. -
  Diepte en percentage van brandwonden bepaleninfuus berekenen. - Kindergen
 eeskundige aspecten bij brandwonden. - Herkennen en behandelen van complic
 aties. - inhalatieletsel: ontstaan\, het mechanisme\, herkennen en behande
 len - casusbespreking met specifieke aandachtspunten bij brandwonden en be
 handelingsmogelijkheden in de praktijk\n13.30-15.00 Workshops (25 minuten 
 per ronde) en 5 min wisseltijd.\n15.00-15.15 Koffie/thee pauze\n15.15-16.4
 5 Vervolg workshop (25 minuten per ronde) en 5 min wisseltijd.\nAfsluiting
 :\n16.45- 17.00 Afsluiting en uitreiking een bewijs van deelname door NASK
 HO.(voor deze cursus hoeft geen examen te worden afgelegd)\n[/accordion_pa
 nel]\n[/accordion][line_break/]\n \n \n  https://www.naskho.org/index.php/
 en/conferences/calendar/event/55-brandwondencursus-congres-2018
DTSTART:20180407T080000Z
DTEND:20180409T160000Z
LOCATION:Hilton Hotel Curacao (John F. Kennedy Boulevard\, Willemstad\, Cur
 açao)
SUMMARY:Brandwondencursus & congres 2018
URL:https://www.naskho.org/index.php/en/conferences/calendar/event/55-brand
 wondencursus-congres-2018
END:VEVENT
END:VCALENDAR
