BEGIN:VCALENDAR
VERSION:2.0
PRODID:-//https://www.naskho.org///NONSGML kigkonsult.se iCalcreator 2.10.15//
METHOD:PUBLISH
BEGIN:VEVENT
UID:20260420T085051EDT-7044xwVaAC@https://www.naskho.org/
DTSTAMP:20260420T125051Z
DESCRIPTION: \nUpdate in Clinical Genetics: Genetic therapy - Prof. dr. Mie
 ke van Haelst\nDr. Mieke van Haelst is a consultant clinical geneticist\, 
 highly experienced in pediatric genetics and genetics of obesity disorders
 . She has a strong research interest in identifying new genetic causes of 
 rare Mendelian diseases. Fruitful international collaborations already suc
 cessfully led to detection of novel genetic causes of rare diseases publis
 hed in high impact journals. She has set up several molecular diagnostic g
 enetic services for these disorders. She is the president of the Dutch Soc
 iety of Human Genetics (NVHG)\, chair of the committee for Dutch Genetics 
 Conferences and organizer the bi-annual joint Dutch-British Clinical Genet
 ics Meetings. She has initiated yearly European Clinics for rare genetic d
 isorders (Cantu clinic\, 16p11.2 clinic and STXBP1 clinic) and is the foun
 der of the European obesity genetic collaboration meeting. She is a facult
 y member of the Indian UK education forum participating in yearly lectures
  at Indian Universities. At the moment she is supervising 6 PhD students a
 nd the Lead Trainer for Specialist Registrars in Clinical Genetics at VUmc
 \, Amsterdam. https://www.naskho.org/index.php/en/conferences/calendar/eve
 nt/495-update-in-clinical-genetics-genetic-therapy-prof-dr-mieke-van-haels
 t
DTSTART:20241023T120000Z
DTEND:20241023T130000Z
LOCATION:Auditorium\, Curacao Medical Center ()
SUMMARY:Update in Clinical Genetics: Genetic therapy - Prof. dr. Mieke van 
 Haelst
URL:https://www.naskho.org/index.php/en/conferences/calendar/event/495-upda
 te-in-clinical-genetics-genetic-therapy-prof-dr-mieke-van-haelst
END:VEVENT
END:VCALENDAR
