BEGIN:VCALENDAR
VERSION:2.0
PRODID:-//https://www.naskho.org///NONSGML kigkonsult.se iCalcreator 2.10.15//
METHOD:PUBLISH
BEGIN:VEVENT
UID:20260423T042310EDT-0799lTvpnJ@https://www.naskho.org/
DTSTAMP:20260423T082310Z
DESCRIPTION:Magnesium en calcium zijn antagonisten maar werken ook nauw sam
 en. In de huidige westerse samenleving is hun balans om diverse redenen fo
 rs verstoord. Calcium is de bovenliggende partij en magnesium is de klos. 
 Dat heeft ernstige consequenties die in de kliniek niet als magnesium-prob
 leem worden onderkend\, deels omdat de klinische chemie referentiewaarden 
 rondstrooit die niet veel te maken hebben met optimale waarden.    \nProf.
  dr. Frits MuskietSinds 2015: gepensioneerd klinisch chemicus en emeritus 
 hoogleraar 'Pathofysiologie en klinische chemie' (RUG en UMCG). Nog steeds
  actief in onderwijs en onderzoek.       \n         \n  https://www.naskho
 .org/index.php/en/conferences/calendar/event/474-vrijdag-14-juni-het-belan
 g-van-balans-tussen-magnesium-en-calcium
DTSTART:20240614T120000Z
DTEND:20240614T130000Z
LOCATION:Auditorium\, Curacao Medical Center ()
SUMMARY:VRIJDAG 14 JUNI:  Het belang van balans tussen Magnesium en Calcium
URL:https://www.naskho.org/index.php/en/conferences/calendar/event/474-vrij
 dag-14-juni-het-belang-van-balans-tussen-magnesium-en-calcium
END:VEVENT
END:VCALENDAR
