BEGIN:VCALENDAR
VERSION:2.0
PRODID:-//https://www.naskho.org///NONSGML kigkonsult.se iCalcreator 2.10.15//
METHOD:PUBLISH
BEGIN:VEVENT
UID:20260421T041919EDT-9190zs7bGx@https://www.naskho.org/
DTSTAMP:20260421T081919Z
DESCRIPTION:\nWe are what we eat... but actually…  we are what our mothers 
 ate and what they gave us our first days of life. Early nutrition has long
 -term effects https://www.naskho.org/index.php/en/conferences/calendar/eve
 nt/466-nutrition-in-the-first-1000-days-of-life-gina-pinilla
DTSTART:20240703T120000Z
DTEND:20240703T130000Z
LOCATION:Auditorium\, Curacao Medical Center ()
SUMMARY:Nutrition in the first 1000 days of life - Gina Pinilla
URL:https://www.naskho.org/index.php/en/conferences/calendar/event/466-nutr
 ition-in-the-first-1000-days-of-life-gina-pinilla
END:VEVENT
END:VCALENDAR
