BEGIN:VCALENDAR
VERSION:2.0
PRODID:-//https://www.naskho.org///NONSGML kigkonsult.se iCalcreator 2.10.15//
METHOD:PUBLISH
BEGIN:VEVENT
UID:20260422T011921EDT-6643ZepKKb@https://www.naskho.org/
DTSTAMP:20260422T051921Z
DESCRIPTION:Sleep apnea is a sleep-related breathing disorder associated wi
 th significant comorbidity and effects on mental health. \nIn this present
 ation\, we will discuss the diagnostic and treatment options on Curacao\, 
 compared to international guidelines. The respiratory nurse will give more
  insight into the challenges surrounding CPAP treatment and adherence http
 s://www.naskho.org/index.php/en/conferences/calendar/event/456-obstructive
 -sleep-apnea-state-of-the-art-on-curacao-tamara-blonk
DTSTART:20240515T120000Z
DTEND:20240516T130000Z
LOCATION:Auditorium\, Curacao Medical Center ()
SUMMARY:Obstructive Sleep Apnea\, state of the art on Curacao - Tamara Blon
 k
URL:https://www.naskho.org/index.php/en/conferences/calendar/event/456-obst
 ructive-sleep-apnea-state-of-the-art-on-curacao-tamara-blonk
END:VEVENT
END:VCALENDAR
