BEGIN:VCALENDAR
VERSION:2.0
PRODID:-//https://www.naskho.org///NONSGML kigkonsult.se iCalcreator 2.10.15//
METHOD:PUBLISH
BEGIN:VEVENT
UID:20260423T042305EDT-1219u3c8ur@https://www.naskho.org/
DTSTAMP:20260423T082305Z
DESCRIPTION: https://www.naskho.org/index.php/en/conferences/calendar/event
 /455-longziekten-op-de-spoedeisende-hulp-marjolein-van-laren
DTSTART:20240529T120000Z
DTEND:20240529T130000Z
LOCATION:Auditorium\, Curacao Medical Center ()
SUMMARY:Longziekten op de spoedeisende hulp - Marjolein van Laren
URL:https://www.naskho.org/index.php/en/conferences/calendar/event/455-long
 ziekten-op-de-spoedeisende-hulp-marjolein-van-laren
END:VEVENT
END:VCALENDAR
