BEGIN:VCALENDAR
VERSION:2.0
PRODID:-//https://www.naskho.org///NONSGML kigkonsult.se iCalcreator 2.10.15//
METHOD:PUBLISH
BEGIN:VEVENT
UID:20260420T205435EDT-1478FSha7U@https://www.naskho.org/
DTSTAMP:20260421T005435Z
DESCRIPTION: https://www.naskho.org/index.php/en/conferences/calendar/event
 /356-guidelines-for-the-diagnosis-and-management-of-atrial-fibrillation
DTSTART:20221207T120000Z
DTEND:20221207T130000Z
LOCATION:Auditorium\, Curacao Medical Center ()
SUMMARY:Guidelines for the diagnosis and management of atrial fibrillation 
URL:https://www.naskho.org/index.php/en/conferences/calendar/event/356-guid
 elines-for-the-diagnosis-and-management-of-atrial-fibrillation
END:VEVENT
END:VCALENDAR
