BEGIN:VCALENDAR
VERSION:2.0
PRODID:-//https://www.naskho.org///NONSGML kigkonsult.se iCalcreator 2.10.15//
METHOD:PUBLISH
BEGIN:VEVENT
UID:20260423T184739EDT-7525Uvx3bX@https://www.naskho.org/
DTSTAMP:20260423T224739Z
DESCRIPTION:Dear Colleagues\,We are very pleased to present the preliminary
  programme for the 12th Netherlands Heart Days (NHD) from January 18 – 20\
 , 2018 in Curaçao.The annual NHD has proved its value as high level annual
  meeting in cardiovascular radiology as evidenced by both the returning nu
 mber of regular participants as well as the increment of new ones from Eur
 ope\, the entire Caribbean area\, North and South America\, and the last y
 ears also Asia.The meeting is organized by the NHD again together with the
  Maastricht University Medical Center and the section Cardiovascular Radio
 logy of the Radiological Society of The Netherlands\, in close cooperation
  with the NASKHO (Netherlands – Caribbean Foundation for Clinical Higher E
 ducation). The program covers topics on Calcium scoring\, myocardial perfu
 sion and flow\, cardiac imaging strategies in women\, invasive coronary an
 giography\, and many more. On the last day\, in the Caribbean and South Am
 erica session speakers from Brasil\, Colombia\, Costa Rica and St. Martin 
 will address new developments in radiology and cardiology in these regions
 . Young researchers again will have the opportunity to submit abstracts fo
 r the Poster Award Session. The abstracts\, with only cardiovascular topic
 s\, will be rated by a jury and the 5 highest rated abstracts will be pres
 ented in a plenary oral session. The best presentation will be awarded wit
 h a Poster Award. The remaining accepted posters can be viewed on site. Ea
 rly fee registration is open until December 1\, 2017.We hope to welcome yo
 u in Curaçao! Prof. Dr. M. OudkerkProf. Dr. J.E. WildbergerProf. Dr. H.J.G
 .M. Crijn\nWelcome Drinks on Thursday January 18  &amp\; Conference Dinner
  on Friday January 19 can be found in the attachment: Invitation_Social_Ev
 ents2018.doc (below)\nPlease note that we would like to receive your parti
 cipations notification before Monday January 15.\n\n\n\nNetherlands Heart 
 Days 2018\nLocal Organizing Committee NASKHO\n\n\nExecutive Committee\nNet
 herlands Antilles Foundation of Clinical Higher Education R.C.M. Antonius\
 , PhD\n\n\nProf. H.J.G.M. Crijns\, MD\, PhD\nL. Baerecke\n\n\nProf. W.P.Th
 .M. Mali\, MD\, PhD\nProf. A.J. Duits\, MD\, PhD\n\n\nE.J.K. Noach\, PhD\n
 E. Engelhardt\n\n\nProf. M. Oudkerk\, MD\, PhD\nF.J. Faulborn\, MSc\n\n\nP
 rof. J.E. Wildberger\, MD\, PhD\nE.D.Th. van der Hoeven F.M.C. Simon\, MSc
 \n\n\nScientific Program Committee\n \n\n\nProf. P. van der Harst\, MD\, P
 hD \n \n\n\nJ.P.M. van Heesewijk\, MD\, PhD\n \n\n\nB.L.J.H. Kietselaer\, 
 MD\, PhD\n \n\n\nProf. H.J. Lamb\, MD\, PhD\n \n\n\nProf. T. Leiner\, MD\,
  PhD\n \n\n\nProf. M. Oudkerk\, MD\, PhD\n \n\n\nProf. U.J. Schoepf\, MD\,
  PhD\n \n\n\nProf. A.E. Stillman\, MD\, PhD\n \n\n\nProf. B.K. Velthuis\, 
 MD. PhD\n \n\n\nProf. R. Vliegenthart\, MD\, PhD\n\n\n\n \nAccreditation i
 s requested from the societies below.\nAccreditation points 2016\nRadiolog
 ical Society of the Netherlands (NVvR): 17\nCardiological Society of the N
 etherlands (NVvC): 18\nSociety of Nuclear Medicine (NVNG): 17\nNo accredit
 ation with CAN\nPROGRAM\n[accordion collapse='false']\n[accordion_panel ti
 tle='Thursday January 18\, 2018 - DAY ONE']\n\n\n\n08.15 – 08.30 Official 
 opening\n\n\n08.30 – 10.00\n\n\nSession 1\n\n\nCalcium Scoring as First-Li
 ne Test in GP Patients\n\n\n10.00 – 10.30 Coffee break\n\n\n10.30 – 12.30
 \n\n\nSession 2\n\n\nFractional Flow Reserve (FFR) Measurement\n\n\n12.30 
 – 13.30 Lunch\n\n\n13.30 – 15.30\n\n\nSession 3\n\n\nExtra Cellular Volume
  and Mapping in Cardiomyopathy\n\n\n15.30 – 16.00\n\n\nGuidelines Presenta
 tion\n\n\n\n[/accordion_panel]\n[accordion_panel title='Friday January 19\
 , 2018 - DAY TWO']\n\n\n\n08.30 – 10.00\n\n\nSession 4\n\n\nMachine Learni
 ng in Cardiovascular Imaging\n\n\n10.00 – 10.30 Coffee break\n\n\n10.30 – 
 11.50\n\n\nSession 5\n\n\nMyocardial Perfusion Quantification\n\n\n11.50 –
  12.30\n\n\nSession 6\n\n\nKorean Session\n\n\n12.30 – 13.30 Lunch\n\n\n13
 .30 – 14.00\n\n\nSession 7\n\n\nSelected EPOS Poster Presentations\n\n\n14
 .00 – 16.00\n\n\nSession 8\n\n\nUS Frontiers in Cardiac Imaging\n\n\n\n[/a
 ccordion_panel]\n[accordion_panel title='Saturday January 20\, 2018 - DAY 
 THREE']\n\n\n\n08.30 – 10.00\n\n\nSession 9\n\n\nImaging in Grown Ups with
  Congenital Heart\n\n\nDisease (GUCH)\n\n\n10.00 – 10.30 Coffee break\n\n
 \n10.30 – 11.30\n\n\nSession 10\n\n\nIndications for Invasive Coronary Ang
 iography\n\n\n11.30 – 12.30\n\n\nSession 11\n\n\nCardiac Imaging Strategie
 s in Women\n\n\n12.30 – 13.30 Lunch\n\n\n13.30 – 14.30\n\n\nSession 12\n\n
 \nDual Energy CTA\n\n\n14.30 – 15.30\n\n\nSession 13\n\n\nLocal Caribbean/
 South American Session\n\n\n15.30 – 15.45\n\n\nClosing Remarks\, EPOS Awar
 d\,\n\n\nand Closing of the Meeting\n\n\n\n[/accordion_panel]\n[/accordion
 ][line_break/]\n  https://www.naskho.org/index.php/en/conferences/calendar
 /event/22-netherlands-heart-days-curacao
DTSTART:20180118T081500Z
DTEND:20180120T154522Z
LOCATION:Hilton Hotel Curacao (John F. Kennedy Boulevard\, Willemstad\, Cur
 açao)
SUMMARY:Netherlands Heart Days Curaçao
URL:https://www.naskho.org/index.php/en/conferences/calendar/event/22-nethe
 rlands-heart-days-curacao
END:VEVENT
END:VCALENDAR
