BEGIN:VCALENDAR
VERSION:2.0
PRODID:-//https://www.naskho.org///NONSGML kigkonsult.se iCalcreator 2.10.15//
METHOD:PUBLISH
BEGIN:VEVENT
UID:20260423T042300EDT-074684tzVj@https://www.naskho.org/
DTSTAMP:20260423T082300Z
DESCRIPTION:Acute abdominale pijn bij kinderen is vaak een diagnostische ui
 tdaging. Meestal gaat het om een goedaardige en zelflimiterende aandoening
 . Soms is het echter nodig om snel en adequaat in te grijpen om bijkomende
  morbiteit of zelfs mortaliteit te voorkomen. https://www.naskho.org/index
 .php/en/conferences/calendar/event/162-pediatrische-abdominale-urgenties-d
 r-silke-flahou-chirurg
DTSTART:20190612T120000Z
DTEND:20190612T130000Z
LOCATION: ()
SUMMARY:Pediatrische abdominale urgenties - Dr. Silke Flahou (Chirurg)
URL:https://www.naskho.org/index.php/en/conferences/calendar/event/162-pedi
 atrische-abdominale-urgenties-dr-silke-flahou-chirurg
END:VEVENT
END:VCALENDAR
