BEGIN:VCALENDAR
VERSION:2.0
PRODID:-//https://www.naskho.org///NONSGML kigkonsult.se iCalcreator 2.10.15//
METHOD:PUBLISH
BEGIN:VEVENT
UID:20260421T075916EDT-5591sPECU4@https://www.naskho.org/
DTSTAMP:20260421T115916Z
DESCRIPTION: https://www.naskho.org/index.php/en/conferences/calendar/event
 /158-pathology-for-gp-s-nina-kooij-hoofd-pathologie
DTSTART:20190529T120000Z
DTEND:20190529T130000Z
LOCATION: ()
SUMMARY:Pathology for GP’s - Nina Kooij - Hoofd Pathologie 
URL:https://www.naskho.org/index.php/en/conferences/calendar/event/158-path
 ology-for-gp-s-nina-kooij-hoofd-pathologie
END:VEVENT
END:VCALENDAR
