BEGIN:VCALENDAR
VERSION:2.0
PRODID:-//https://www.naskho.org///NONSGML kigkonsult.se iCalcreator 2.10.15//
METHOD:PUBLISH
BEGIN:VEVENT
UID:20260421T224646EDT-7711Ffd4Hv@https://www.naskho.org/
DTSTAMP:20260422T024646Z
DESCRIPTION: https://www.naskho.org/index.php/en/conferences/calendar/event
 /157-perioperatief-gebruik-van-opiaten-en-het-gevaar-van-verslaving-prof-k
 ees-kramers
DTSTART:20190626T120000Z
DTEND:20190626T130000Z
LOCATION: ()
SUMMARY:Perioperatief gebruik van opiaten en het gevaar van verslaving -  P
 rof. Kees Kramers
URL:https://www.naskho.org/index.php/en/conferences/calendar/event/157-peri
 operatief-gebruik-van-opiaten-en-het-gevaar-van-verslaving-prof-kees-krame
 rs
END:VEVENT
END:VCALENDAR
