BEGIN:VCALENDAR
VERSION:2.0
PRODID:-//https://www.naskho.org///NONSGML kigkonsult.se iCalcreator 2.10.15//
METHOD:PUBLISH
BEGIN:VEVENT
UID:20260423T042235EDT-060274dDMA@https://www.naskho.org/
DTSTAMP:20260423T082235Z
DESCRIPTION: https://www.naskho.org/index.php/en/conferences/calendar/event
 /153-sudden-unexpected-deaths-due-to-rare-cardiac-diseases-dr-lars-althaus
DTSTART:20190515T120000Z
DTEND:20190515T130000Z
LOCATION: ()
SUMMARY:Sudden\, unexpected deaths due to rare cardiac diseases - Dr. Lars 
 Althaus
URL:https://www.naskho.org/index.php/en/conferences/calendar/event/153-sudd
 en-unexpected-deaths-due-to-rare-cardiac-diseases-dr-lars-althaus
END:VEVENT
END:VCALENDAR
