BEGIN:VCALENDAR
VERSION:2.0
PRODID:-//https://www.naskho.org///NONSGML kigkonsult.se iCalcreator 2.10.15//
METHOD:PUBLISH
BEGIN:VEVENT
UID:20260419T141824EDT-8563jouroV@https://www.naskho.org/
DTSTAMP:20260419T181824Z
DESCRIPTION:                                                            \n 
 Program\n[accordion_panel title='Thursday June 6\, 2019']\n\n\n\nFrom - To
 \nSubject\nSpeakers\n\n\n\n\n18:30 - 19:00\nRegistration \n \n\n\n \nChair
 man: \nW. Develter\n\n\n19:00 - 19:30\nNASKHO\, HNO\, Doctors\, Students a
 nd so on\nA. Duits\n\n\n19:30 - 20:00\nBefore you refer a lung patient to 
 the specialist\nF. Brijker\n\n\n20:00 - 20:30\nNephrology case studies St.
  Maarten\nS. Nadery\n\n\n20:30 - 21:00\nInternal medicine case studies St.
  Maarten\nS. Nadery\n\n\n21:00 - 21:30\nGastrointestinal cases\nA. Saleh\n
 \n\n21:30\nQ &amp\; A - Closure\n \n\n\n\n[/accordion_panel]\n[accordion_p
 anel title='Friday June 7\, 2019'] \n\n\n\nFrom - To\nSubject\nSpeakers\n
 \n\n\n\n18:30 - 19:00\nRegistration\n \n\n\n \nChairman: \nN. Ajubi\n\n\n1
 9:00 - 19:30\nWorking in St. Maarten as an internist \nS. Nadery\n\n\n19:3
 0 - 20:00\nPitfalls in the tests\nS. Coolen\n\n\n20:00 - 20:30\nPain manag
 ement in oncology\nM. van der Graaf\n\n\n20:30 - 21:00\nAcute kidney injur
 y\nR. Pannecoeck\n\n\n21:00 - 21:30\nDipstick positive for blood and or pr
 otein\nN. Ajubi\n\n\n21:30 - 22:00\nNew treatments for Diabetic Nephropath
 y\nR. Thadani\n\n\n22:00\nQ &amp\; A - Closure\n \n\n\n\n[/accordion_panel
 ]\n[accordion_panel title='Saturday June 8\, 2019'] \n\n\n\nFrom - To\nSub
 ject\nSpeakers\n\n\n\n\n08:30 - 09:00 \nRegistration\n \n\n\n \nChairman:
 \nK. Berend\n\n\n09:00 - 09:30\nThe New England Journal of Medicine highli
 ghts \nJ. Ingelfinger\n\n\n09:30 - 10:00\nNephrology\, interesting cases\n
 W. Develter\n\n\n10:00 - 10:30\n(Inherited) dyslipidemie in the daily prac
 tice \nJ de Graaf\n\n\n10:30 - 11:00\nCoffee break\n \n\n\n11:00 - 11:30\n
 Anemia: pitfalls in diagnosis \nM. Kramer\n\n\n11:30 - 12:00\nUpdate in In
 ternal Medicine: What’s New  \nJ. Ingelfinger\n\n\n12:00 - 12:30 \nInteres
 ting nephrology cases \nF. Bemelmans\n\n\n12:30 - 14:00\nLunch break \n \n
 \n\n13:30 - 14:00\nRegistration\n \n\n\n \nChairman: \nJ. Schnog\n\n\n14:0
 0 - 14:30\nHow to improve Internal Medicine \nM. Kramer\n\n\n14:30 - 15:00
 \nHow to create good internists\nJ. de Graaf\n\n\n15:00 - 15:30\nChallenge
 s in Nephrology in St. Maarten\nL. Nadery\n\n\n15:30 - 16:00\nTea break\n 
 \n\n\n16:00 - 16:30\nDutch kidney transplant program: mainstream en cuttin
 g edges \nF. Bemelmans \n\n\n16:30 - 17:00\nAPOL1 kidney disease and the C
 aribbean\nR. Thadani\n\n\n\n [/accordion_panel]\n[accordion_panel title='S
 unday June 9\, 2019'] \n\n\n\nFrom - To\nSubject\nSpeakers\n\n\n\n\n09:00 
 - 09:30\nRegistration\n \n\n\n \nChairman: \nA. Saleh\n\n\n09:30 - 10:00\n
 How to approach a patient with fever \nE. Rooijakkers\n\n\n10:00 - 10:30\n
 GP/internal medicine borderline cases \nA. Roose\n\n\n10:30 - 11:00\nCase 
 reports admitted to our hospital \nK. Berend\n\n\n11:00 - 11:30\nCoffee br
 eak\n \n\n\n11:30 - 12:00\nCancer related issues\nJ. Schnog\n\n\n12:00 - 1
 2:30\nChallenges in Diabetes Care in Suriname\nA. Punwasi\n\n\n12:30 - 13:
 00\nInteresting emergency cases\nJ. Koeijers\n\n\n13:00\nQ &amp\; A - Clos
 ure\n \n\n\n\n \n\n\n\nFee\nDay\nSession\n\n\n\n\nUSD 75\nThursday June 6\
 , 2019\nAfternoon \n\n\nUSD 75\nFriday June 7\, 2019\nAfternoon\n\n\nUSD 1
 25\nSaturday June 8\, 2019\nMorning &amp\; Afternoon \n\n\nUSD 20\nSaturda
 y June 8\, 2019\nLunch Buffet \n\n\nUSD 75\nSunday June 9\, 2019\nMorning
 \n\n\n\n[/accordion_panel]\n                 \nAccreditation:\nCAN # A19.0
 16June 6th : 2 pointsJune 7th : 2 pointsJune 8th - AM: 3 pointsJune 8th - 
 PM: 2 pointsJune 9th : 3 points\nGAIA NIV: 15 point\nSpeakers:\nJ. de Graa
 f Prof dr.\, Radboud University J. Ingelfinger Prof. dr. Nephrologist\, ed
 itor NEJMM. Kramer Prof. dr.\, Hematologist\, Board memberAmsterdam UMCF. 
 Bemelman Prof. dr. Nephrologist Amsterdam UMCR. Thadani Prof. dr. Nephrolo
 gist\, Vice Dean Research and Education\, Cedars-Sinai\, L.A.S. Nadery Int
 ernist St. Maarten\nCuracao:A. J. Duits Prof. dr. Bloodbank S. Coolen Drs.
  head hospital Laboratory SehosF. Brijker PulmonologistR. Pannecoeck Nephr
 ologistN. Ajubi NephrologistA. Roose General PractitionerW. Develter Nephr
 ologistM. van der Graaf OncologistE. Rooijakkers Internist-infectiologistJ
 . Schnog Internist-oncologistJ. Koeijers Internist-intensive care speciali
 stA. Saleh Internist\nOrganizer: K. Berend\, Internist\n  https://www.nask
 ho.org/index.php/en/conferences/calendar/event/127-nephrology-and-internal
 -medicine-conference
DTSTART:20190606T080000Z
DTEND:20190609T180000Z
LOCATION:Renaissance Curacao Resort & Casino (Baden Powellweg\, Willemstad\
 , Curaçao)
SUMMARY:Nephrology and Internal Medicine Conference 
URL:https://www.naskho.org/index.php/en/conferences/calendar/event/127-neph
 rology-and-internal-medicine-conference
END:VEVENT
END:VCALENDAR
