BEGIN:VCALENDAR
VERSION:2.0
PRODID:-//https://www.naskho.org///NONSGML kigkonsult.se iCalcreator 2.10.15//
METHOD:PUBLISH
BEGIN:VEVENT
UID:20260424T155622EDT-2646PirEfx@https://www.naskho.org/
DTSTAMP:20260424T195622Z
DESCRIPTION:\n \nPlease fill out attached form and present this at the regi
 stration desk!\n \nSymposium over wetenschap\, gezondheid en ethiek \nToeg
 ang: GratisAccreditatie CAN: 5 uren geaccrediteerd onder nr A18.044\n\n\n
 \n \nProgramma\n \n\n\n08:30\nRegistratie\n \n\n\n09:00\nOfficiele Opening
 \n \n\n\n09:15\nHuman well-being: hoe zijn we comfortabel\nProf. dr. A. J.
  Duits\n\n\n09:45\nKaf en koren\; rammelt het aan alle kanten?\nDr. J. B. 
 Schnog\n\n\n10:15\nPauze\n \n\n\n10:45\nGeneesmiddelen: veilig en ethisch
 \nDrs. D. Levens\n\n\n11:15\nWell-being:  comfort als werkgever\nDrs. M. v
 an der Huls\n\n\n11:45\nDiscussie\n \n\n\n12:00\nLunch\n \n\n\n13:30\nDiab
 etes: tussen complex en simpel\nDrs. R. Griffith\n\n\n14:00\nHet bewaken v
 an human well-being\nDrs. J. Huurman\n\n\n14:30\nPauze\n \n\n\n15:00\nDe h
 umane schoonheid: comfort of discomfort?\nDrs. G. Koeijers\n\n\n15:30\nEen
  mooie grijns: wat kan en niet kan\nDrs. E. de Brabander\n\n\n16:00\nHuman
  well-being: Tot slot de burger\nDhr. M. Heyden\n\n\n16:30\nDiscussie/Slui
 ting \n \n\n\n\n \n  https://www.naskho.org/index.php/en/conferences/calen
 dar/event/107-het-weerleggen-van-grenzen-2018
DTSTART:20181201T083000Z
DTEND:20181201T170000Z
LOCATION:Hilton Hotel Curacao (John F. Kennedy Boulevard\, Willemstad\, Cur
 açao)
SUMMARY:Het weerleggen van grenzen (2018)
URL:https://www.naskho.org/index.php/en/conferences/calendar/event/107-het-
 weerleggen-van-grenzen-2018
END:VEVENT
END:VCALENDAR
